BEGIN:VCALENDAR
VERSION:2.0
PRODID:-//Edgewall Software//NONSGML Trac 1.4.2//EN
METHOD:PUBLISH
X-WR-CALNAME:Greenstone - Roadmap
X-WR-CALDESC:Greenstone
X-WR-TIMEZONE:UTC+13:00
BEGIN:VEVENT
UID:</milestone/DEC Release 2.86@trac.greenstone.org>
DTSTAMP:20151216T110000Z
DTSTART;VALUE=DATE:20151217
SUMMARY:Milestone DEC Release 2.86
URL:http://trac.greenstone.org/milestone/DEC%20Release%202.86
DESCRIPTION:Release a final version of the documented example collections t
 o work with the 2.86 release.\nThis will be the last Greenstone 2 release 
 of these. Thereafter we will be doing greenstone 3 versions.\nNo upgrade p
 ackage. Just a complete package.\nNeeds to include manifest demo and lom d
 emo.
END:VEVENT
END:VCALENDAR
